BEGIN:VCALENDAR
VERSION:2.0
PRODID:-//Lifepointe family church assembly of god - ECPv6.15.10//NONSGML v1.0//EN
CALSCALE:GREGORIAN
METHOD:PUBLISH
X-WR-CALNAME:Lifepointe family church assembly of god
X-ORIGINAL-URL:https://lifepfc.org
X-WR-CALDESC:Events for Lifepointe family church assembly of god
REFRESH-INTERVAL;VALUE=DURATION:PT1H
X-Robots-Tag:noindex
X-PUBLISHED-TTL:PT1H
BEGIN:VTIMEZONE
TZID:America/New_York
BEGIN:DAYLIGHT
TZOFFSETFROM:-0500
TZOFFSETTO:-0400
TZNAME:EDT
DTSTART:20200308T070000
END:DAYLIGHT
BEGIN:STANDARD
TZOFFSETFROM:-0400
TZOFFSETTO:-0500
TZNAME:EST
DTSTART:20201101T060000
END:STANDARD
BEGIN:DAYLIGHT
TZOFFSETFROM:-0500
TZOFFSETTO:-0400
TZNAME:EDT
DTSTART:20210314T070000
END:DAYLIGHT
BEGIN:STANDARD
TZOFFSETFROM:-0400
TZOFFSETTO:-0500
TZNAME:EST
DTSTART:20211107T060000
END:STANDARD
BEGIN:DAYLIGHT
TZOFFSETFROM:-0500
TZOFFSETTO:-0400
TZNAME:EDT
DTSTART:20220313T070000
END:DAYLIGHT
BEGIN:STANDARD
TZOFFSETFROM:-0400
TZOFFSETTO:-0500
TZNAME:EST
DTSTART:20221106T060000
END:STANDARD
END:VTIMEZONE
BEGIN:VEVENT
DTSTART;TZID=America/New_York:20211114T130000
DTEND;TZID=America/New_York:20211114T143000
DTSTAMP:20260423T115749
CREATED:20211110T232828Z
LAST-MODIFIED:20211110T232828Z
UID:402-1636894800-1636900200@lifepfc.org
SUMMARY:Speed the Light Luncheon
DESCRIPTION:Join us Sunday 11/14 after the morning service. We’ll share La Rosa’s Pizza and exciting news about Speed the Light. \nThe concept is simple: we give so others can speed the light of the gospel to a world in darkness. This is accomplished by providing the “essential transportation and creative communication” equipment for missionary evangelism. Through modern transportation\, radio\, television\, print\, audio\, and digital equipment\, our missionaries can help make Jesus known.
URL:https://lifepfc.org/event/speed-the-light-luncheon/
END:VEVENT
BEGIN:VEVENT
DTSTART;TZID=America/New_York:20211110T190000
DTEND;TZID=America/New_York:20211110T200000
DTSTAMP:20260423T115749
CREATED:20200421T174734Z
LAST-MODIFIED:20211110T232302Z
UID:216-1636570800-1636574400@lifepfc.org
SUMMARY:Zoom Bible Study
DESCRIPTION:Join us for weekly Bible study and prayer via ZOOM. Email or call if you’d like to take part. \nIt’s an opportunity to chat with friends\, pray together and get into the Word. Please sign up for emails on the “Connect” page if you’d like to be included.
URL:https://lifepfc.org/event/zoom-bible-study/
LOCATION:Zoom
ATTACH;FMTTYPE=image/jpeg:https://lifepfc.org/wp-content/uploads/2020/04/Blue-and-Cream-World-Press-Freedom-Day-Social-Media-Graphic-e1587491197455.jpg
ORGANIZER;CN="Kathy Phillips":MAILTO:kathy@lifepfc.org
END:VEVENT
END:VCALENDAR